BEGIN:VCALENDAR
VERSION:2.0
BEGIN:VEVENT
SUMMARY:Sprechstunde für Mitglieder beim Vorstand
DESCRIPTION:
LOCATION:Kleingartenverein
DTSTART:20260505T180000
DTEND:20260505T191000
END:VEVENT
END:VCALENDAR